BEGIN:VCALENDAR
VERSION:2.0
PRODID:-//ChamberMaster//Event Calendar 2.0//EN
METHOD:PUBLISH
X-PUBLISHED-TTL:P3D
REFRESH-INTERVAL:P3D
CALSCALE:GREGORIAN
BEGIN:VEVENT
DTSTART:20170802T141500Z
DTEND:20170802T141500Z
X-MICROSOFT-CDO-ALLDAYEVENT:FALSE
SUMMARY:Children Arts Trek Program
DESCRIPTION:Children Arts Trek Program\n\nAdirondack Shakespeare Company\n\nThor\n\nIn Norse mythology\, Thor is a hammer-wielding god associated with thunder\, lightning storms\, oak trees\, strength\, the protection of mankind. It will be an exciting\, fun production full of ADK Shake's surprises.
X-ALT-DESC;FMTTYPE=text/html:Children Arts Trek Program<br />\n<strong>Adirondack Shakespeare Company<br />\nThor</strong><br />\nIn Norse mythology\, Thor is a hammer-wielding god associated with thunder\, lightning storms\, oak trees\, strength\, the protection of mankind. It will be an exciting\, fun production full of ADK Shake&#39\;s surprises.
LOCATION:Ticonderoga Knights of Columbus Pavilion
UID:e.1115.12853
SEQUENCE:3
DTSTAMP:20260424T155003Z
URL:http://ticonderogany.chambermaster.com/events/details/children-arts-trek-program-12853
END:VEVENT

END:VCALENDAR
